BEGIN:VCALENDAR
VERSION:2.0
PRODID:spatie/icalendar-generator
DESCRIPTION:Events from One World Community
X-WR-CALDESC:Events from One World Community
REFRESH-INTERVAL;VALUE=DURATION:PT1440M
X-PUBLISHED-TTL:PT1440M
BEGIN:VTIMEZONE
TZID:America/Denver
BEGIN:STANDARD
DTSTART:20161106T020000Z
TZOFFSETFROM:-0600
TZOFFSETTO:-0700
END:STANDARD
BEGIN:DAYLIGHT
DTSTART:20170312T020000Z
TZOFFSETFROM:-0700
TZOFFSETTO:-0600
END:DAYLIGHT
BEGIN:STANDARD
DTSTART:20171105T020000Z
TZOFFSETFROM:-0600
TZOFFSETTO:-0700
END:STANDARD
END:VTIMEZONE
BEGIN:VTIMEZONE
TZID:UTC
BEGIN:STANDARD
DTSTART:20250726T095606Z
TZOFFSETFROM:+0000
TZOFFSETTO:+0000
END:STANDARD
END:VTIMEZONE
BEGIN:VEVENT
UID:33-28
DTSTAMP:20260422T095606Z
SUMMARY:MayDay Pole Beltane Celebration
LOCATION:
ORGANIZER;CN=Sara R:MAILTO:rileysara4@gmail.com
DTSTART;TZID=America/Denver:20170507T160000
DTEND;TZID=America/Denver:20170507T220000
X-ALT-DESC;FMTTYPE=TEXT/HTML:MayDay Celebration Sunday\, May 7th\, 4pm to 1
 0pm 557 Driggs Ave (2370 S)\, SLC\, UT Sunday is free with Traditional Bel
 tane May Pole Ceremony\, dancing\, Fairy Garden and Pot luck BBQ. All are
  welcome - love offering goes to One World Humanity for Indigenous and En
 vironmental causes. 
CATEGORIES:General
URL;VALUE=URI:https://oneworldcommunity.com/mc-events/mayday-pole-beltane-c
 elebration/
METHOD:PUBLISH
END:VEVENT
END:VCALENDAR